BEGIN:VCALENDAR
VERSION:2.0
PRODID:-//Uckfield Rugby Club - ECPv6.15.17//NONSGML v1.0//EN
CALSCALE:GREGORIAN
METHOD:PUBLISH
X-WR-CALNAME:Uckfield Rugby Club
X-ORIGINAL-URL:https://uckfieldrugby.uk
X-WR-CALDESC:Events for Uckfield Rugby Club
REFRESH-INTERVAL;VALUE=DURATION:PT1H
X-Robots-Tag:noindex
X-PUBLISHED-TTL:PT1H
BEGIN:VTIMEZONE
TZID:UTC
BEGIN:STANDARD
TZOFFSETFROM:+0000
TZOFFSETTO:+0000
TZNAME:UTC
DTSTART:20210101T000000
END:STANDARD
END:VTIMEZONE
BEGIN:VEVENT
DTSTART;TZID=UTC:20220218T190000
DTEND;TZID=UTC:20220218T230000
DTSTAMP:20260420T005150
CREATED:20220126T141210Z
LAST-MODIFIED:20220126T141210Z
UID:10000043-1645210800-1645225200@uckfieldrugby.uk
SUMMARY:Quiz Night!!
DESCRIPTION:We are hosting a Quiz Night on Feb 18th. We are inviting teams of 6 with a prize for the winning team.  \n\n\n\n\n\n\n\n\n\n\n\n\n\n\n\n 
URL:https://uckfieldrugby.uk/event/quiz-night-18th-feb/
LOCATION:Uckfield Rugby Club\, Hempstead Playing Fields\, Uckfield\, TN22 1LX
CATEGORIES:Public
ATTACH;FMTTYPE=image/jpeg:https://uckfieldrugby.uk/wp-content/webpc-passthru.php?src=https://uckfieldrugby.uk/wp-content/uploads/2022/01/WhatsApp-Image-2022-01-22-at-8.56.38-AM.jpeg&amp;nocache=1
END:VEVENT
END:VCALENDAR