BEGIN:VCALENDAR
VERSION:2.0
PRODID:-//Uckfield Rugby Club - ECPv6.15.17//NONSGML v1.0//EN
CALSCALE:GREGORIAN
METHOD:PUBLISH
X-WR-CALNAME:Uckfield Rugby Club
X-ORIGINAL-URL:https://uckfieldrugby.uk
X-WR-CALDESC:Events for Uckfield Rugby Club
REFRESH-INTERVAL;VALUE=DURATION:PT1H
X-Robots-Tag:noindex
X-PUBLISHED-TTL:PT1H
BEGIN:VTIMEZONE
TZID:UTC
BEGIN:STANDARD
TZOFFSETFROM:+0000
TZOFFSETTO:+0000
TZNAME:UTC
DTSTART:20200101T000000
END:STANDARD
END:VTIMEZONE
BEGIN:VEVENT
DTSTART;TZID=UTC:20211227T130000
DTEND;TZID=UTC:20211227T200000
DTSTAMP:20260420T042053
CREATED:20211008T120015Z
LAST-MODIFIED:20211029T090042Z
UID:10000040-1640610000-1640635200@uckfieldrugby.uk
SUMMARY:Big Game 13
DESCRIPTION:
URL:https://uckfieldrugby.uk/event/big-game-13/
LOCATION:Twickenham Stadium\, Whitton Road\, Twickenham\, TW2 7BA
CATEGORIES:Members
ATTACH;FMTTYPE=image/jpeg:https://uckfieldrugby.uk/wp-content/webpc-passthru.php?src=https://uckfieldrugby.uk/wp-content/uploads/2021/10/242491802_4156958041081992_4196241388783169085_n.jpg&amp;nocache=1
END:VEVENT
BEGIN:VEVENT
DTSTART;TZID=UTC:20211231T190000
DTEND;TZID=UTC:20220101T010000
DTSTAMP:20260420T042053
CREATED:20211210T212218Z
LAST-MODIFIED:20211231T110802Z
UID:10000042-1640977200-1640998800@uckfieldrugby.uk
SUMMARY:Cancelled: NYE Party @ URFC
DESCRIPTION:We would love you to join us for NYE celebrations at the URFC @ the Club House on 31st December 2021 in a safe and friendly environment. \n7PM Until 1AM. \nClub Members and Guests are welcome. \n£10 a ticket to include welcome drink and buffet food. \nWe will be displaying Big Ben and London fireworks on a big screen. \nEntry by ticket only\, no entry without ticket which are very limited. \nIf COVID restrictions force cancellation full refund will be given
URL:https://uckfieldrugby.uk/event/nye-party-urfc-21/
LOCATION:URFC\, Hempstead Playing Fields\, Uckfield\, East Sussex\, TN22 1LX\, United Kingdom
CATEGORIES:Public
ATTACH;FMTTYPE=image/jpeg:https://uckfieldrugby.uk/wp-content/webpc-passthru.php?src=https://uckfieldrugby.uk/wp-content/uploads/2021/12/image0.jpeg&amp;nocache=1
END:VEVENT
END:VCALENDAR