BEGIN:VCALENDAR
VERSION:2.0
PRODID:-//Uckfield Rugby Club - ECPv6.15.17//NONSGML v1.0//EN
CALSCALE:GREGORIAN
METHOD:PUBLISH
X-WR-CALNAME:Uckfield Rugby Club
X-ORIGINAL-URL:https://uckfieldrugby.uk
X-WR-CALDESC:Events for Uckfield Rugby Club
REFRESH-INTERVAL;VALUE=DURATION:PT1H
X-Robots-Tag:noindex
X-PUBLISHED-TTL:PT1H
BEGIN:VTIMEZONE
TZID:UTC
BEGIN:STANDARD
TZOFFSETFROM:+0000
TZOFFSETTO:+0000
TZNAME:UTC
DTSTART:20220101T000000
END:STANDARD
END:VTIMEZONE
BEGIN:VEVENT
DTSTART;TZID=UTC:20230226T110000
DTEND;TZID=UTC:20230226T140000
DTSTAMP:20260419T230009
CREATED:20230224T170301Z
LAST-MODIFIED:20230224T172348Z
UID:10000239-1677409200-1677420000@uckfieldrugby.uk
SUMMARY:Uckfield Under 12 Boys vs Brighton Blues Under 12 Boys Home
DESCRIPTION:[vc_row][vc_column][vc_column_text] \nUpcoming Home Fixture\n[/vc_column_text][vc_row_inner][vc_column_inner width=”5/12″][vc_single_image image=”15054″ img_size=”medium” alignment=”center”][/vc_column_inner][vc_column_inner width=”2/12″][vc_column_text] \nVS\n[/vc_column_text][vc_column_text] \n11AM KO \n[/vc_column_text][/vc_column_inner][vc_column_inner width=”5/12″][vc_single_image image=”16224″ img_size=”medium” alignment=”center”][vc_column_text] \nWebsite: https://www.brightonblues.co.uk/ \n[/vc_column_text][/vc_column_inner][/vc_row_inner][vc_row_inner][vc_column_inner][vc_column_text] \nUckfield Under 12 Boys welcome Brighton Blues Under 12’s to the home of the Acorns for their next fixture this weekend.\nCome and welcome the Brighton squad to Uckfield and show your support this Sunday!\nCheck back soon for the scores and further updates!\n[/vc_column_text][/vc_column_inner][/vc_row_inner][/vc_column][/vc_row]
URL:https://uckfieldrugby.uk/event/uckfield-under-12-boys-vs-hove-under-12-boys-home-2/
LOCATION:Brighton Rugby Club\, Waterhall Road\, Brighton\, East Sussex\, BN1 8YR\, United Kingdom
CATEGORIES:Public
END:VEVENT
BEGIN:VEVENT
DTSTART;TZID=UTC:20230226T110000
DTEND;TZID=UTC:20230226T140000
DTSTAMP:20260419T230009
CREATED:20230224T172207Z
LAST-MODIFIED:20230224T172207Z
UID:10000240-1677409200-1677420000@uckfieldrugby.uk
SUMMARY:Uckfield Under 10s vs Brighton Blues Under 10 AWAY
DESCRIPTION:[vc_row][vc_column][vc_column_text] \nUpcoming Home Fixture\n[/vc_column_text][vc_row_inner][vc_column_inner width=”5/12″][vc_single_image image=”15054″ img_size=”medium” alignment=”center”][/vc_column_inner][vc_column_inner width=”2/12″][vc_column_text] \nVS\n[/vc_column_text][vc_column_text] \n11AM KO \n[/vc_column_text][/vc_column_inner][vc_column_inner width=”5/12″][vc_single_image image=”16224″ img_size=”medium” alignment=”center”][vc_column_text] \nWebsite: https://www.brightonblues.co.uk/ \n[/vc_column_text][/vc_column_inner][/vc_row_inner][vc_row_inner][vc_column_inner][vc_column_text] \nUckfield Under 10 travel away to Brighton Blues to face their Under 10’s for their next fixture this weekend.\nCheck back soon for the scores and further updates!\n[/vc_column_text][/vc_column_inner][/vc_row_inner][/vc_column][/vc_row]
URL:https://uckfieldrugby.uk/event/uckfield-under-10s-vs-brighton-blues-under-10-away/
LOCATION:Uckfield Rugby Club\, Hempstead Playing Fields\, Uckfield\, TN22 1LX
CATEGORIES:Public
END:VEVENT
END:VCALENDAR